BEGIN:VCALENDAR
VERSION:2.0
PRODID:-//Les Curiosités Ateliers Créatifs - ECPv4.2.5//NONSGML v1.0//EN
CALSCALE:GREGORIAN
METHOD:PUBLISH
X-WR-CALNAME:Les Curiosités Ateliers Créatifs
X-ORIGINAL-URL:https://lescuriosites.fr
X-WR-CALDESC:Events for Les Curiosités Ateliers Créatifs
BEGIN:VEVENT
DTSTART;TZID=UTC+1:20201219T150000
DTEND;TZID=UTC+1:20201219T161500
DTSTAMP:20260421T134619
CREATED:20201208T093852
LAST-MODIFIED:20201208T093852
UID:1050-1608390000-1608394500@lescuriosites.fr
SUMMARY:Atelier créatif enfant (6-12 ans) : Couronne de Noël
DESCRIPTION:\nC'est moi qui l'ai fait ! Chutes de popeline\, dentelle\, wax\, organdi... une couronne de noël 100% récup !\n\nGel hydroalcoolique à l'arrivée\, masque obligatoire. Pour respecter les contraintes sanitaires\, l'atelier est limité à 12 participants répartis sur 2 tables de 6.\n\nTarif : 15€\, matériel fourni. Tarif fratrie sur demande. Renseignements et inscription : contact@lescuriosites.org\n 
URL:https://lescuriosites.fr/index.php/calendrier/atelier-creatif-enfant-6-12-ans-couronne-de-noel/
LOCATION:6 place Jean Jaurès\, MONTREUIL\, 93100\, France
CATEGORIES:Atelier jeune public
END:VEVENT
END:VCALENDAR