BEGIN:VCALENDAR
VERSION:2.0
PRODID:-//Les Curiosités Ateliers Créatifs - ECPv4.2.5//NONSGML v1.0//EN
CALSCALE:GREGORIAN
METHOD:PUBLISH
X-WR-CALNAME:Les Curiosités Ateliers Créatifs
X-ORIGINAL-URL:https://lescuriosites.fr
X-WR-CALDESC:Events for Les Curiosités Ateliers Créatifs
BEGIN:VEVENT
DTSTART;TZID=UTC+1:20160824T153000
DTEND;TZID=UTC+1:20160824T173000
DTSTAMP:20260419T161901
CREATED:20160824T094218
LAST-MODIFIED:20160829T163356
UID:145-1472052600-1472059800@lescuriosites.fr
SUMMARY:Atelier pour enfants "je peins je colle je customise"
DESCRIPTION:Atelier d'expression pour enfants de 5 à 12 ans.\nBoite à secrets\, tableau à poser\, cadre déco... j'offre une deuxième vie à un objet recyclé\, avec mon imagination et ma créativité ! Gouter offert.\n\nTarif : 20 euros les 2 heures\, matériel fourni. Tarif fratrie sur demande.\n\nRenseignements et inscriptions : Sophie au 06 85 33 43 50 et contact@lescuriosites.org
URL:https://lescuriosites.fr/index.php/calendrier/atelier-pour-enfants-je-peins-je-colle-je-customise/
LOCATION:12 place Jean Jaurès\, Montreuil\, 93100\, France
CATEGORIES:Atelier jeune public
END:VEVENT
END:VCALENDAR