BEGIN:VCALENDAR
VERSION:2.0
PRODID:-//Les Curiosités Ateliers Créatifs - ECPv4.2.5//NONSGML v1.0//EN
CALSCALE:GREGORIAN
METHOD:PUBLISH
X-WR-CALNAME:Les Curiosités Ateliers Créatifs
X-ORIGINAL-URL:https://lescuriosites.fr
X-WR-CALDESC:Events for Les Curiosités Ateliers Créatifs
BEGIN:VEVENT
DTSTART;TZID=UTC+1:20160906T170000
DTEND;TZID=UTC+1:20160906T183000
DTSTAMP:20260419T131730
CREATED:20160830T083738
LAST-MODIFIED:20160909T172347
UID:178-1473181200-1473186600@lescuriosites.fr
SUMMARY:Portes Ouvertes de l'atelier "peinture et arts créatifs"
DESCRIPTION:Nous vous attendons le mardi 6 Septembre de 17h00 à 18h30 à la Maison Ouverte : l’occasion de faire connaissance\, découvrir la salle\, le matériel\, échanger sur le programme de l’année\, nos contenus\, nos méthodes…\n\nInscriptions sur place\, pour les ateliers pour enfants proposés à la Maison Ouverte et au centre Pablo Picasso par l'association. Pour en savoir plus sur nos ateliers à l'année "peinture et arts créatifs"\, c'est ICI.\n\nA très bientôt !\n\n 
URL:https://lescuriosites.fr/index.php/calendrier/portes-ouvertes-de-latelier-peinture-et-arts-creatifs/
LOCATION:17 rue Hoche\, Montreuil\, 93100\, France
CATEGORIES:Rencontrons-nous !
END:VEVENT
END:VCALENDAR